BEGIN:VCALENDAR
VERSION:2.0
PRODID:-//SACE - ECPv5.6.0//NONSGML v1.0//EN
CALSCALE:GREGORIAN
METHOD:PUBLISH
X-WR-CALNAME:SACE
X-ORIGINAL-URL:https://sace.sk
X-WR-CALDESC:Udalosti pre SACE
BEGIN:VTIMEZONE
TZID:Europe/Bratislava
BEGIN:DAYLIGHT
TZOFFSETFROM:+0100
TZOFFSETTO:+0200
TZNAME:CEST
DTSTART:20230326T010000
END:DAYLIGHT
BEGIN:STANDARD
TZOFFSETFROM:+0200
TZOFFSETTO:+0100
TZNAME:CET
DTSTART:20231029T010000
END:STANDARD
END:VTIMEZONE
BEGIN:VEVENT
DTSTART;TZID=Europe/Bratislava:20230223T090000
DTEND;TZID=Europe/Bratislava:20230223T150000
DTSTAMP:20260425T225628
CREATED:20181026T104426Z
LAST-MODIFIED:20220823T082409Z
UID:21079-1677142800-1677164400@sace.sk
SUMMARY:Seminár : Metodiky pre riešenie zmien (organizátor CCC)
DESCRIPTION:V spolupráci s českou asociáciou CACE a spoločnosťou CCC\, ako aj ďalšími dávame do ponuky seminár “Metodiky pre riešenie zmien”\, ktorý sa uskutoční 23.2.2022 online. \n  \nViac informácií nájdete v letáku na tomto odkaze. \n  \nŠtandardné vložné : 4900 CZK bez DPH \nPre členov SACE je možné poskytnúť zľavnené vložné : 3500 CZK bez DPH. \n  \nRegistrácia je možná prostredníctvom e-mailu: seminar@3C-global.com
URL:https://sace.sk/seminar/seminar-metodiky-pre-zmeny/
ORGANIZER;CN="CCC":MAILTO:seminar@3C-global.com
END:VEVENT
END:VCALENDAR