BEGIN:VCALENDAR
VERSION:2.0
PRODID:-//SACE - ECPv5.6.0//NONSGML v1.0//EN
CALSCALE:GREGORIAN
METHOD:PUBLISH
X-WR-CALNAME:SACE
X-ORIGINAL-URL:https://sace.sk
X-WR-CALDESC:Udalosti pre SACE
BEGIN:VTIMEZONE
TZID:Europe/Bratislava
BEGIN:DAYLIGHT
TZOFFSETFROM:+0100
TZOFFSETTO:+0200
TZNAME:CEST
DTSTART:20250330T010000
END:DAYLIGHT
BEGIN:STANDARD
TZOFFSETFROM:+0200
TZOFFSETTO:+0100
TZNAME:CET
DTSTART:20251026T010000
END:STANDARD
END:VTIMEZONE
BEGIN:VEVENT
DTSTART;TZID=Europe/Bratislava:20250522T090000
DTEND;TZID=Europe/Bratislava:20250522T150000
DTSTAMP:20260425T200511
CREATED:20200308T121333Z
LAST-MODIFIED:20250406T100145Z
UID:21487-1747904400-1747926000@sace.sk
SUMMARY:Seminár : Metodiky pre časové riadenie (organizátor CCC)
DESCRIPTION:V spolupráci s českou asociáciou CACE a spoločnosťou CCC\, ako aj ďalšími dávame do ponuky seminár “Metodiky pre časové riadenie\,” ktorý sa uskutoční 22.5.2025 online. \nViac informácií o oboch školiacich dňoch nájdete v letáku na tomto odkaze. \n  \nŠtandardné vložné : 4900 CZK bez DPH \nPre členov SACE je možné poskytnúť zľavnené vložné : 3900 CZK bez DPH. \n  \nRegistrácia je možná prostredníctvom e-mailu: seminar@3C-global.com
URL:https://sace.sk/seminar/seminar-metodiky-pre-cas/
LOCATION:Online
ORGANIZER;CN="CCC":MAILTO:seminar@3C-global.com
END:VEVENT
END:VCALENDAR