BEGIN:VCALENDAR
VERSION:2.0
PRODID:-//SACE - ECPv5.6.0//NONSGML v1.0//EN
CALSCALE:GREGORIAN
METHOD:PUBLISH
X-WR-CALNAME:SACE
X-ORIGINAL-URL:https://sace.sk
X-WR-CALDESC:Udalosti pre SACE
BEGIN:VTIMEZONE
TZID:Europe/Bratislava
BEGIN:DAYLIGHT
TZOFFSETFROM:+0100
TZOFFSETTO:+0200
TZNAME:CEST
DTSTART:20250330T010000
END:DAYLIGHT
BEGIN:STANDARD
TZOFFSETFROM:+0200
TZOFFSETTO:+0100
TZNAME:CET
DTSTART:20251026T010000
END:STANDARD
END:VTIMEZONE
BEGIN:VEVENT
DTSTART;TZID=Europe/Bratislava:20251120T090000
DTEND;TZID=Europe/Bratislava:20251120T123000
DTSTAMP:20260425T194218
CREATED:20211022T131332Z
LAST-MODIFIED:20250406T100410Z
UID:22012-1763629200-1763641800@sace.sk
SUMMARY:Seminár : Metodika pre meranie (organizátor CCC)
DESCRIPTION:V spolupráci s českou asociáciou CACE a spoločnosťou CCC\, ako aj ďalšími dávame do ponuky seminár “Metodiky pre meranie”\, ktorý sa uskutoční 20.11.2025 online. \n  \nViac informácií nájdete v letáku na tomto odkaze. \n  \nŠtandardné vložné : 4900 CZK bez DPH \nPre členov SACE je možné poskytnúť zľavnené vložné : 3900 CZK bez DPH. \n  \nRegistrácia je možná prostredníctvom e-mailu: seminar@3C-global.com
URL:https://sace.sk/seminar/seminar-metodika-pre-meranie-organizator-ccc/
LOCATION:Online
ORGANIZER;CN="CCC":MAILTO:seminar@3C-global.com
END:VEVENT
END:VCALENDAR