BEGIN:VCALENDAR
VERSION:2.0
PRODID:-//SACE - ECPv5.6.0//NONSGML v1.0//EN
CALSCALE:GREGORIAN
METHOD:PUBLISH
X-WR-CALNAME:SACE
X-ORIGINAL-URL:https://sace.sk
X-WR-CALDESC:Udalosti pre SACE
BEGIN:VTIMEZONE
TZID:Europe/Bratislava
BEGIN:DAYLIGHT
TZOFFSETFROM:+0100
TZOFFSETTO:+0200
TZNAME:CEST
DTSTART:20250330T010000
END:DAYLIGHT
BEGIN:STANDARD
TZOFFSETFROM:+0200
TZOFFSETTO:+0100
TZNAME:CET
DTSTART:20251026T010000
END:STANDARD
END:VTIMEZONE
BEGIN:VEVENT
DTSTART;TZID=Europe/Bratislava:20251010T083000
DTEND;TZID=Europe/Bratislava:20251010T143000
DTSTAMP:20260425T170238
CREATED:20210719T053358Z
LAST-MODIFIED:20250928T163514Z
UID:21949-1760085000-1760106600@sace.sk
SUMMARY:Seminár FIDIC Červená kniha - 2025
DESCRIPTION:Vzdelávací program SACE 2025:\nS radosťou oznamujeme\, že seminár FIDIC Červená kniha sa uskutoční aj v roku 2025!Po úspešných ročníkoch\, počas ktorých sme vyškolili už viac než 1 100 účastníkov\, pokračujeme v tradícii aj naďalej. \nVzhľadom na vydanie reprintových verzií Červenej\, Žltej a Striebornej knihy FIDIC koncom roku 2022 sme pripravili autorizovaný preklad Červenej knihy FIDIC. Na seminári sa zameriame na Zmluvné podmienky na výstavbu (Červená kniha – II. vydanie 2017\, reprint 2022 so zmenami a doplneniami) a ich porovnanie s vydaním z roku 1999. \nČo získate ako účastník seminára?\nKaždý účastník jesenného seminára Zmluvné podmienky na výstavbu (Červená kniha) 2025 dostane: \n\nZmluvné podmienky na výstavbu (Červená kniha – vydanie 1999);\nZmluvné podmienky na výstavbu (Červená kniha – vydanie 2017\, reprint 2022 so zmenami a doplneniami);\nDetailné vysvetlenie rozdielov medzi oboma vydaniami a ich interpretáciu\n\nNové vydanie 2017 (verzia reprint 2022) obsahuje takmer dvojnásobný rozsah textu oproti vydaniu z roku 1999\, pričom prináša jasnejšie postupy najmä v oblasti variácií a nárokov. To zdôrazňuje dôležitosť efektívneho zmluvného manažmentu. Počas prechodného obdobia si investori sami určujú\, ktoré vydanie použijú pri príprave súťažných podkladov. Preto je kľúčové správne pochopiť a interpretovať obe verzie\, aby bolo možné pripraviť optimálne zmluvné podmienky pre konkrétny projekt. \nO seminári\nSeminár FIDIC Zmluvné podmienky vo výstavbe – Červená kniha pozostáva zo štyroch na seba nadväzujúcich jednodňových stretnutí. Poskytne vám komplexné pochopenie zásad a princípov všeobecných zmluvných podmienok FIDIC Červená kniha. \nObsah seminára zahŕňa:✅ Typy zmlúv a rozloženie rizík✅ Vplyv legislatívy na zmluvné podmienky✅ Princípy riadenia zmlúv a projektového manažmentu✅ Podrobnú analýzu článkov aktuálneho vydania Červenej knihy✅ Kľúčové rozdiely medzi vydaniami 1999 a 2017 \nNezmeškajte príležitosť získať cenné poznatky a praktické skúsenosti v oblasti zmluvného manažmentu! \nTermíny:  \n10.10.2025\, 24.10.2025\, 7.11.2025 a 21.11.2025 (počas posledného školenia bude prebiehať testovanie) \nForma:  \nhybridná – prezenčná v Hoteli PLUS\, Bulharská 72\,  Bratislava\n– online prostredníctvom platformy tretej strany \nCieľová skupina – Seminár FIDIC Červená kniha: \nCertifikované školenie je vhodné pre investorov (súkromných aj verejných)\, developerov\, stavebných dozorov\, správcov stavby\, zhotoviteľov projektu\, manažérov stavebných spoločností\, vedúcich projektov\, stavbyvedúcich\, prípravárov projektov\, konzultačných inžinierov\, poradcov\, súdnych znalcov\, podnikov právnikov\, rozhodcov\, ako aj pre banky a poisťovne. Certifikácia je tiež zaujímavá pre študentov technických\, manažérskych a právnických smerov pre ich budúci rozvoj a konkurencieschopnosť. \nCeny účastníckeho poplatku \n\n\n\n\nRegistrácia (do 1.9.2025)\n\nRegistrácia (od 2.9. do 3.10.2025) \n\n\n\n\nCena v € bez DPH \n\n\nznížená \n\n\nzákladná \n\n\n\n\nPlné vložné \n\n700 €\n\n770 € \n\n\n\n\nRiadny člen SACE\, študent VŠ \n(zľava 40%) \n\n420 €\n\n462 € \n\n\n\n\nRiadni členovia SACE a študenti s potvrdením o štúdiu (aktuálne k dňom konania školení) majú nárok na 40% zľavu z účastníckeho poplatku. K vyššie uvedeným cenám bude účtovaná DPH vo výške 23%. Prihlasovanie prebieha do 3.10.2025 alebo do naplnenia kapacity miestnosti. \nVložné na školenie zahŕňa: \nÚčasť na školení (4x)\, podklady k seminárom\, autentické autorizované preklady Zmluvných podmienok na výstavbu (Červená kniha – vydanie 1999 a vydanie 2017)\, certifikát o úspešnom absolvovaní seminára s poradovým číslom zapísaným do verejne prístupného registra na webstránke SACE. Občerstvenie ako nealko\, káva/ čaj\, obed je k dispozícii v prípade prezenčnej účasti (vrátane parkovného pri Hoteli PLUS). Pre online účasť je potrebné pripojenie na internet. \nInformačný leták na stiahnutie
URL:https://sace.sk/seminar/seminar-fidic-cervena-kniha/
ATTACH;FMTTYPE=image/png:https://sace.sk/wp-content/uploads/2018/10/Snímka.png
ORGANIZER;CN="Sace":MAILTO:tajomnik@sace.sk
END:VEVENT
END:VCALENDAR