BEGIN:VCALENDAR
VERSION:2.0
PRODID:-//SACE - ECPv5.6.0//NONSGML v1.0//EN
CALSCALE:GREGORIAN
METHOD:PUBLISH
X-WR-CALNAME:SACE
X-ORIGINAL-URL:https://sace.sk
X-WR-CALDESC:Udalosti pre SACE
BEGIN:VTIMEZONE
TZID:Europe/Bratislava
BEGIN:DAYLIGHT
TZOFFSETFROM:+0100
TZOFFSETTO:+0200
TZNAME:CEST
DTSTART:20190331T010000
END:DAYLIGHT
BEGIN:STANDARD
TZOFFSETFROM:+0200
TZOFFSETTO:+0100
TZNAME:CET
DTSTART:20191027T010000
END:STANDARD
END:VTIMEZONE
BEGIN:VEVENT
DTSTART;TZID=Europe/Bratislava:20190516T090000
DTEND;TZID=Europe/Bratislava:20190516T180000
DTSTAMP:20260426T015141
CREATED:20190102T094333Z
LAST-MODIFIED:20190102T100910Z
UID:21179-1557997200-1558029600@sace.sk
SUMMARY:International Construction Contracts Conference
DESCRIPTION:Dátum konania konferencie:\nKonferencia International Construction Contracts Conference sa koná 16. mája 2019 od 9:00-18:00\, vložné zahŕňa aj spoločenskú akciu od 19:30 v Lucerna Music Bar. \nMiesto konania konferencie:\nClarion Congress Hotel\, Praha\, Česká republika. \nStručný popis:\nKonferencia je výnimočnou globálnou akciou\, stretnutím expertov z celého sveta za účelom zlepšenia vzťahov\, posilnenie spolupráce a inovácie v stavebníctve. \nČasť 1\nPrvá časť je venovaná súčasným trendom v zmluvných štandardoch\, napr. novej edícii zmluvných podmienok FIDIC z roku 2017\, ktoré predstavia ich samotní autori. Ďalší panel sa bude venovať spôsobom\, ako používať a nepoužívať zmluvné štandardy FIDIC – ide o prípadové štúdie z rôznych krajín\, napríklad z výstavby dopravnej infraštruktúry v Poľsku\, z výstavby projektu veľkých rozmerov fúzneho reaktora na juhu Francúzska a spôsobe riešenia jeho zmien v priebehu realizácie. Ďalej ide napríklad o prípadové štúdie venovanej nárokom vo výstavbe\, ich kvantifikáciu a zmierňovanie. \nČasť 2\nDruhá časť (Férové ​​vzťahy a inovácie) sa zameria na ľudskú motiváciu a vplyv digitalizácie ako hlavné oblasti\, v ktorých je najväčší potenciál pre zmenu\, inováciu a zlepšenie vzťahov. Hlavnými témami budú BIM – digitalizácie v stavebníctve\, integrácia projektanta a zhotoviteľa (design-build) a efektívna alokácia rizika vrátane nových metód dodávania smerovaných k alianciám a partnerstvám. \nJazykom konferencie je Angličtina – Slovenský preklad bude zaistený! \nVložné:\nPlný poplatok vložného pre verejnosť je 12 500 ČK bez DPH (10 000 ČK bez DPH pri včasnej registrácii do konca januára 2019). \nRiadni členovia SACE majú k dispozícii zvýhodnenú cenu účastníckeho poplatku. Ide o 50% zľavu z plnej ceny. Cena pre vás je teda 6000 ČK bez DPH. Stačí pri registrácii o túto zľavu požiadať s odkazom na členstvo\, táto informácia bude následne overovaná. \nRegistrácia:\nje možná e-mailom na conference@3c-global.com alebo vo formulári na webe 3C-Global\, priamo tiež tu. \n  \nBližšie informácie o akcii International Construction Contracts Conference nájdete v letáku na tomto odkaze. \n 
URL:https://sace.sk/seminar/international-construction-contracts-conference/
LOCATION:Clarion Congress Hotel\, Freyova 945/33\, Praha\, 190 00\, Česká republika
ATTACH;FMTTYPE=image/png:https://sace.sk/wp-content/uploads/2019/01/logo_ICCC-1.png
ORGANIZER;CN="CCC":MAILTO:seminar@3C-global.com
END:VEVENT
END:VCALENDAR