BEGIN:VCALENDAR
VERSION:2.0
PRODID:-//SACE - ECPv5.6.0//NONSGML v1.0//EN
CALSCALE:GREGORIAN
METHOD:PUBLISH
X-WR-CALNAME:SACE
X-ORIGINAL-URL:https://sace.sk
X-WR-CALDESC:Udalosti pre SACE
BEGIN:VTIMEZONE
TZID:Europe/Bratislava
BEGIN:DAYLIGHT
TZOFFSETFROM:+0100
TZOFFSETTO:+0200
TZNAME:CEST
DTSTART:20260329T010000
END:DAYLIGHT
BEGIN:STANDARD
TZOFFSETFROM:+0200
TZOFFSETTO:+0100
TZNAME:CET
DTSTART:20261025T010000
END:STANDARD
END:VTIMEZONE
BEGIN:VEVENT
DTSTART;TZID=Europe/Bratislava:20260319T090000
DTEND;TZID=Europe/Bratislava:20260319T133000
DTSTAMP:20260425T205251
CREATED:20250127T084547Z
LAST-MODIFIED:20250406T100741Z
UID:23064-1773910800-1773927000@sace.sk
SUMMARY:FIDIC FÓRUM
DESCRIPTION:FIDIC fórum: 2026\, bližšie info už čoskoro (termín je len informatívny)\nMedzinárodné odborné FIDIC fórum je jedinečné podujatie venované aktuálnym výzvam a praktickým otázkam v oblasti stavebných projektov podľa medzinárodných štandardov FIDIC. \nTešíme sa na Vás opäť v roku 2026! \nPríprava diskusného fóra je možná vďaka naším členom a sympatizantom. Ďakujeme.
URL:https://sace.sk/seminar/fidic-forum/
ATTACH;FMTTYPE=image/png:https://sace.sk/wp-content/uploads/2025/01/Layout.png
ORGANIZER;CN="Sace":MAILTO:tajomnik@sace.sk
END:VEVENT
END:VCALENDAR