BEGIN:VCALENDAR
VERSION:2.0
PRODID:-//SACE - ECPv5.6.0//NONSGML v1.0//EN
CALSCALE:GREGORIAN
METHOD:PUBLISH
X-WR-CALNAME:SACE
X-ORIGINAL-URL:https://sace.sk
X-WR-CALDESC:Udalosti pre SACE
BEGIN:VTIMEZONE
TZID:Europe/Bratislava
BEGIN:DAYLIGHT
TZOFFSETFROM:+0100
TZOFFSETTO:+0200
TZNAME:CEST
DTSTART:20220327T010000
END:DAYLIGHT
BEGIN:STANDARD
TZOFFSETFROM:+0200
TZOFFSETTO:+0100
TZNAME:CET
DTSTART:20221030T010000
END:STANDARD
END:VTIMEZONE
BEGIN:VEVENT
DTSTART;TZID=Europe/Bratislava:20220427T083000
DTEND;TZID=Europe/Bratislava:20220427T123000
DTSTAMP:20260425T214223
CREATED:20211022T130922Z
LAST-MODIFIED:20220423T061638Z
UID:22009-1651048200-1651062600@sace.sk
SUMMARY:Diskusné fórum SACE 2022 -  Výkonnejšie stavebníctvo
DESCRIPTION:O diskusnom fóre:\nPanelová diskusia k aktuálnym témam v stavebníctve\, konzultačnom inžinierstve a zmluvnom manažmente sa uskutoční dňa 27.4.2022. Cieľom diskusného fóra je komplexne analyzovať problémy a nedostatky v príprave\, riadení výstavby\, hľadať konkrétne návody na zlepšenia a zvýšenia výkonnosti s dopadom aj na zmenu/úpravu slovenskej legislatívy a prijatia štandardných postupov a metodík pre prípravu\, obstarávanie a realizáciu verejných stavieb infraštruktúry na Slovensku. \nPotvrdení hostia: \n\nIvan Brlej – prezident SACE\nJuraj Tlapa – bývalý predseda predstavenstva NDS\, a.s.\nJaroslav Lexa – podpredseda ÚVO\nAdam  Nociar  – zástupca NDS\, a.s.\nMarián Pavlík – riaditeľ štábnej oblasti kalkulácií spoločnosti STRABAG s.r.o.\n\nPripravené otázky:\nAk by ste mali záujem pripraviť si otázky nadväzujúce na tie\, o ktorých sa bude hovoriť počas diskusného fóra\, odporúčame Vám prejsť si pripravenými otázkami. PDF súbor s otázkami nájdete tu \nCieľová skupina:\nvhodné pre všetkých účastníkov pri príprave\, obstarávaní\, realizácii\, dozorovaní stavieb\, riešení a predchádzaní sporov a iných súvisiacich činností vo výstavbe \nMiesto konania a forma:\nForma diskusného fóra je hybridná\, t. j. prezenčne sa stretneme v Klube pod lampou a takisto online cez stream na YouTube. Klub pod lampou sa nachádza na Partizánskej ulici č. 2 v Bratislave \nÚčastnícky poplatok:\n\nOnline (cez webový prehliadač) 39 EUR\nPrezenčne 59 EUR\nSACE nie je platcom DPH. Registrácia pre prezenčnú účasť prebieha do 25.4.2022\, pre online účasť do 26.4.2022\n\nČasový harmonogram (predbežný):\n\nRegistrácia od 8:30\nPrivítanie a panel 1 od 9:00\nPrestávka od 10:10\nPanel 2 od 10:30\nDiskusia od 11:30\nUkončenie o 12:30\n\nPropagačný leták:\nTu na stiahnutie \nPríprava diskusného fóra je možná vďaka naším členom a sympatizantom. Ďakujeme
URL:https://sace.sk/seminar/diskusne-forum-sace-22/
LOCATION:Klub pod lampou\, Partizánska 2\, Bratislava\, 81103\, Slovenská republika
ATTACH;FMTTYPE=image/png:https://sace.sk/wp-content/uploads/2019/09/stránka-e1634908324123.png
ORGANIZER;CN="Sace":MAILTO:tajomnik@sace.sk
END:VEVENT
END:VCALENDAR