BEGIN:VCALENDAR
VERSION:2.0
PRODID:-//SACE - ECPv5.6.0//NONSGML v1.0//EN
CALSCALE:GREGORIAN
METHOD:PUBLISH
X-WR-CALNAME:SACE
X-ORIGINAL-URL:https://sace.sk/en/
X-WR-CALDESC:Events for SACE
BEGIN:VTIMEZONE
TZID:Europe/Bratislava
BEGIN:DAYLIGHT
TZOFFSETFROM:+0100
TZOFFSETTO:+0200
TZNAME:CEST
DTSTART:20250330T010000
END:DAYLIGHT
BEGIN:STANDARD
TZOFFSETFROM:+0200
TZOFFSETTO:+0100
TZNAME:CET
DTSTART:20251026T010000
END:STANDARD
END:VTIMEZONE
BEGIN:VEVENT
DTSTART;TZID=Europe/Bratislava:20250321T083000
DTEND;TZID=Europe/Bratislava:20250321T143000
DTSTAMP:20260425T235924
CREATED:20170911T180050Z
LAST-MODIFIED:20170917T160005Z
UID:19831-1742545800-1742567400@sace.sk
SUMMARY:FIDIC Yellow book contracts course
DESCRIPTION:FIDIC zmluvné podmienky vo výstavbe – „ŽLTÁ KNIHA“\nZmluvné nároky podľa FIDIC zmluvných podmienok – príprava a obhajoba nárokov podľa Červenej a Žltej knihy\n\n 
URL:https://sace.sk/en/seminar/fidic-yellow-book-contracts-course/
LOCATION:Hotel Plus\, Hotel PLUS\, Bulharská 72\,\, Bratislava\, 821 04\, Slovenská republika
ATTACH;FMTTYPE=image/jpeg:https://sace.sk/wp-content/uploads/2017/08/event_zlta.jpg
ORGANIZER;CN="Sace":MAILTO:tajomnik@sace.sk
END:VEVENT
END:VCALENDAR